BEGIN:VCALENDAR
VERSION:2.0
PRODID:-//Federatie Goud en Zilver - ECPv6.15.20//NONSGML v1.0//EN
CALSCALE:GREGORIAN
METHOD:PUBLISH
X-WR-CALNAME:Federatie Goud en Zilver
X-ORIGINAL-URL:https://ondernemers.fgz.nl
X-WR-CALDESC:Evenementen voor Federatie Goud en Zilver
REFRESH-INTERVAL;VALUE=DURATION:PT1H
X-Robots-Tag:noindex
X-PUBLISHED-TTL:PT1H
BEGIN:VTIMEZONE
TZID:Europe/Amsterdam
BEGIN:DAYLIGHT
TZOFFSETFROM:+0100
TZOFFSETTO:+0200
TZNAME:CEST
DTSTART:20230326T010000
END:DAYLIGHT
BEGIN:STANDARD
TZOFFSETFROM:+0200
TZOFFSETTO:+0100
TZNAME:CET
DTSTART:20231029T010000
END:STANDARD
BEGIN:DAYLIGHT
TZOFFSETFROM:+0100
TZOFFSETTO:+0200
TZNAME:CEST
DTSTART:20240331T010000
END:DAYLIGHT
BEGIN:STANDARD
TZOFFSETFROM:+0200
TZOFFSETTO:+0100
TZNAME:CET
DTSTART:20241027T010000
END:STANDARD
BEGIN:DAYLIGHT
TZOFFSETFROM:+0100
TZOFFSETTO:+0200
TZNAME:CEST
DTSTART:20250330T010000
END:DAYLIGHT
BEGIN:STANDARD
TZOFFSETFROM:+0200
TZOFFSETTO:+0100
TZNAME:CET
DTSTART:20251026T010000
END:STANDARD
BEGIN:DAYLIGHT
TZOFFSETFROM:+0100
TZOFFSETTO:+0200
TZNAME:CEST
DTSTART:20260329T010000
END:DAYLIGHT
BEGIN:STANDARD
TZOFFSETFROM:+0200
TZOFFSETTO:+0100
TZNAME:CET
DTSTART:20261025T010000
END:STANDARD
BEGIN:DAYLIGHT
TZOFFSETFROM:+0100
TZOFFSETTO:+0200
TZNAME:CEST
DTSTART:20270328T010000
END:DAYLIGHT
BEGIN:STANDARD
TZOFFSETFROM:+0200
TZOFFSETTO:+0100
TZNAME:CET
DTSTART:20271031T010000
END:STANDARD
END:VTIMEZONE
BEGIN:VEVENT
DTSTART;VALUE=DATE:20260326
DTEND;VALUE=DATE:20260329
DTSTAMP:20260423T235755
CREATED:20260127T160020Z
LAST-MODIFIED:20260407T074517Z
UID:37434-1774483200-1774742399@ondernemers.fgz.nl
SUMMARY:Amberif | Gdańsk
DESCRIPTION:De internationale beurs voor barnsteen en sieraden\, AMBERIF\, vindt plaats van 26 t/m 28 maart in het Poolse Gdańsk. AMBERIF is ’s werelds belangrijkste barnsteententoonstelling. Hier ontmoeten zaken en kunst elkaar\, worden creatieve ideeën geboren en worden de nieuwste trends en technologieën op het gebied van sieradenontwerp gepresenteerd.\nAlle oranje wegen kruisen elkaar in Gdańsk. Het is hier dat de historische traditie van het barnsteenambacht voortduurt en bijdraagt aan de unieke sfeer van de stad en haar erfgoed van eeuwenoude cultuur. Het is ook hier – twee keer per jaar: in de lente en aan de vooravond van de herfst – dat de AMBERIF International Fair of Amber and Jewellery wordt gehouden. Het is de grootste vakbeurs van Polen en een van Europa’s grootste beurzen voor de sieradenindustrie\, een ontmoetingspodium voor avant-garde juweliers en een plek waar ambertrends worden geboren. \nwww.amberif.pl/en/
URL:https://ondernemers.fgz.nl/evenement/amberif-gdansk-5/
CATEGORIES:Business
ATTACH;FMTTYPE=image/png:https://ondernemers.fgz.nl/wp-content/uploads/2024/06/amberif-vakagenda.png
END:VEVENT
BEGIN:VEVENT
DTSTART;VALUE=DATE:20250904
DTEND;VALUE=DATE:20250907
DTSTAMP:20260423T235755
CREATED:20250626T092720Z
LAST-MODIFIED:20250626T092720Z
UID:36957-1756944000-1757203199@ondernemers.fgz.nl
SUMMARY:Amberif - Gdańsk
DESCRIPTION:De internationale beurs voor barnsteen en sieraden\, AMBERIF\, vindt plaats van 4 t/m 6 september in het Poolse Gdańsk. AMBERIF is ’s werelds belangrijkste barnsteententoonstelling. Hier ontmoeten zaken en kunst elkaar\, worden creatieve ideeën geboren en worden de nieuwste trends en technologieën op het gebied van sieradenontwerp gepresenteerd.\nAlle oranje wegen kruisen elkaar in Gdańsk. Het is hier dat de historische traditie van het barnsteenambacht voortduurt en bijdraagt aan de unieke sfeer van de stad en haar erfgoed van eeuwenoude cultuur. Het is ook hier – twee keer per jaar: in de lente en aan de vooravond van de herfst – dat de AMBERIF International Fair of Amber and Jewellery wordt gehouden. Het is de grootste vakbeurs van Polen en een van Europa’s grootste beurzen voor de sieradenindustrie\, een ontmoetingspodium voor avant-garde juweliers en een plek waar ambertrends worden geboren. \nwww.amberif.pl/en/
URL:https://ondernemers.fgz.nl/evenement/amberif-gdansk-4/
LOCATION:Amberif\, Amberexpo Exhibition And Convention Centre\, Gdansk\, Polen
CATEGORIES:Business
ATTACH;FMTTYPE=image/png:https://ondernemers.fgz.nl/wp-content/uploads/2024/02/amberif-Ondernemerssite-800-x-400.png
END:VEVENT
BEGIN:VEVENT
DTSTART;VALUE=DATE:20240321
DTEND;VALUE=DATE:20240324
DTSTAMP:20260423T235755
CREATED:20240206T092800Z
LAST-MODIFIED:20240220T135632Z
UID:34929-1710979200-1711238399@ondernemers.fgz.nl
SUMMARY:AMBERIF - Gdańsk
DESCRIPTION:De internationale beurs voor barnsteen en sieraden\, AMBERIF\, vindt plaats van 21 t/m 23 maart in het Poolse Gdańsk. AMBERIF is ’s werelds belangrijkste barnsteententoonstelling. Hier ontmoeten zaken en kunst elkaar\, worden creatieve ideeën geboren en worden de nieuwste trends en technologieën op het gebied van sieradenontwerp gepresenteerd.\nAlle oranje wegen kruisen elkaar in Gdańsk. Het is hier dat de historische traditie van het barnsteenambacht voortduurt en bijdraagt aan de unieke sfeer van de stad en haar erfgoed van eeuwenoude cultuur. Het is ook hier – twee keer per jaar: in de lente en aan de vooravond van de herfst – dat de AMBERIF International Fair of Amber and Jewellery wordt gehouden. Het is de grootste vakbeurs van Polen en een van Europa’s grootste beurzen voor de sieradenindustrie\, een ontmoetingspodium voor avant-garde juweliers en een plek waar ambertrends worden geboren. \nHet thema van deze 27e editie van AMBERIF is ‘Symbol of Hope’. Dit is ook het thema voor de AMBERIF Design Award\, de ontwerpwedstrijd waarvoor bijna 300 inzendingen zijn binnengekomen en waarvan de prijsuitreiking plaatsvindt tijdens de beurs in Gdańsk. \nwww.amberif.pl/en/
URL:https://ondernemers.fgz.nl/evenement/amberif-gdansk/
LOCATION:Amberif\, Amberexpo Exhibition And Convention Centre\, Gdansk\, Polen
CATEGORIES:Business
ATTACH;FMTTYPE=image/png:https://ondernemers.fgz.nl/wp-content/uploads/2024/02/amberif-Ondernemerssite-800-x-400.png
END:VEVENT
END:VCALENDAR