BEGIN:VCALENDAR
VERSION:2.0
PRODID:-//Federatie Goud en Zilver - ECPv6.15.20//NONSGML v1.0//EN
CALSCALE:GREGORIAN
METHOD:PUBLISH
X-WR-CALNAME:Federatie Goud en Zilver
X-ORIGINAL-URL:https://ondernemers.fgz.nl
X-WR-CALDESC:Evenementen voor Federatie Goud en Zilver
REFRESH-INTERVAL;VALUE=DURATION:PT1H
X-Robots-Tag:noindex
X-PUBLISHED-TTL:PT1H
BEGIN:VTIMEZONE
TZID:Europe/Amsterdam
BEGIN:DAYLIGHT
TZOFFSETFROM:+0100
TZOFFSETTO:+0200
TZNAME:CEST
DTSTART:20240331T010000
END:DAYLIGHT
BEGIN:STANDARD
TZOFFSETFROM:+0200
TZOFFSETTO:+0100
TZNAME:CET
DTSTART:20241027T010000
END:STANDARD
BEGIN:DAYLIGHT
TZOFFSETFROM:+0100
TZOFFSETTO:+0200
TZNAME:CEST
DTSTART:20250330T010000
END:DAYLIGHT
BEGIN:STANDARD
TZOFFSETFROM:+0200
TZOFFSETTO:+0100
TZNAME:CET
DTSTART:20251026T010000
END:STANDARD
BEGIN:DAYLIGHT
TZOFFSETFROM:+0100
TZOFFSETTO:+0200
TZNAME:CEST
DTSTART:20260329T010000
END:DAYLIGHT
BEGIN:STANDARD
TZOFFSETFROM:+0200
TZOFFSETTO:+0100
TZNAME:CET
DTSTART:20261025T010000
END:STANDARD
END:VTIMEZONE
BEGIN:VEVENT
DTSTART;VALUE=DATE:20251116
DTEND;VALUE=DATE:20260101
DTSTAMP:20260421T121628
CREATED:20251120T155558Z
LAST-MODIFIED:20251120T155558Z
UID:37267-1763251200-1767225599@ondernemers.fgz.nl
SUMMARY:Serenity\, jewels - Enschede
DESCRIPTION:“Serenity\, jewels” is de titel van een veelzijdige tentoonstelling met draagbare eigentijdse sieraden\, gemaakt door 32 sieraadkunstenaars. De tentoonstelling is samengesteld door de Argentijns-Nederlandse sieraadontwerper Luis Acosta en te zien van 16 november t/m 31 december in Galerie Beeld & Aambeeld in Enschede.\nLuis Acosta heeft in het voorjaar van 2025 aan vakgenoten wereldwijd een oproep gedaan om met maximaal 10 sieraden te reageren op het thema Serenity (sereniteit\, rust\, kalmte). Uit alle inzendingen heeft hij vervolgens 32 kunstenaars geselecteerd. \nSereniteit in hedendaagse sieraden is niet alleen een esthetisch aspect\, maar een rijk samenspel van emoties\, filosofie en duurzaamheid. Het is dan ook interessant te zien hoe verschillend de kunstenaars op de uitnodiging reageerden. Zo laat Lily Kanellopoulou het thema zelfs letterlijk terugkomen in de titels van haar verstilde sieraden (Silent flower ring) terwijl Lamia Saab tegenovergesteld reageert (“I have not felt serenity in a long time. In this troubled world\, there is no peace of mind”) en daarom felrode ringen laat zien die de woorden human-rights en decency-respect uitschreeuwen. Om maar twee voorbeelden te noemen. \nIn 2026 en 2027 zal de tentoonstelling doorreizen en in nog 8 andere Europese landen te zien zijn\, maar vooralsnog hebben kijkers en kopers in de Enschedese galerie Beeld & Aambeeld de primeur en eerste keus. \nDe deelnemende kunstenaars zijn: Akane Hayashi (Japan)\, Alejandra Bahamón (Colombia)\, Alexandra Conde (Mexico)\, Alicia Salcedo Gonzálvez (Spanje)\, Amàlgama (Giorgia Tasca) (Italië/USA)\, Andrea Barrera (Colombia)\, Angela Gentile (Italië)\, Anne Earls Boylan (UK)\, Beatriz Yebaile Gargano (Spanje)\, Caron Fitzpatrick (Nederland)\, Cecilia Mattera (Argentinië)\, Clara Moranta Martí (Spanje)\, Claudia Isabel Alban Andrioli (Colombia)\, FLUXIS (Mariangela & Alberto) (Italië)\, Gabriela Sierra (Mexico)\, Graciela Di Mónaco (Argentinië)\, Lamia Saab (Zweden)\, Laura Volpi (Italië)\, Lidia Godfrid (Argentinië)\, Lily Kanellopoulou (Griekenland)\, Luisa Mucedola (Italië)\, Marija Radosavljević (Servië)\, May Gañan (Spanje)\, Özlem Böge (Turkije)\, Pamela Suárez Iturrieta (Chili)\, Patrizia Casamirra (Italië)\, Pauletta Brooks (USA)\, Rosanna Raljević Ceglar/NIIRO (Kroatië/Slovenië)\, Susanne Elstner (Duitsland)\, Tiziana Chiara (Italië)\, Vera Blixen (Spanje) en Ye-jee LEE (Zuid-Korea). \nwww.beeldenaambeeld.nl
URL:https://ondernemers.fgz.nl/evenement/serenity-jewels-enschede/
LOCATION:Beeld & Aambeeld\, Walstraat 13\, Enschede\, 7511 GE
CATEGORIES:Business,Consumenten
ATTACH;FMTTYPE=image/png:https://ondernemers.fgz.nl/wp-content/uploads/2025/11/beeld-en-aambeeld-800-x-400.png
END:VEVENT
BEGIN:VEVENT
DTSTART;VALUE=DATE:20250907
DTEND;VALUE=DATE:20251030
DTSTAMP:20260421T121628
CREATED:20250901T101358Z
LAST-MODIFIED:20250901T101358Z
UID:37057-1757203200-1761782399@ondernemers.fgz.nl
SUMMARY:Verbinden - Enschede
DESCRIPTION:In Galerie Beeld & Aambeeld is van 7 september t/m 29 oktober de expositie ‘Verbinden’ te zien. De tentoonstelling bevat sieraden en (draag)objecten van Sylvia Blickman uit Haarlem en polymeeretsen van Herma Deenen uit Amsterdam.\nEens in de drie jaar staat in Nederland-Kunstenland het najaar in het teken van grafiek. Een triënnale\, ooit genaamd “Maand van de Grafiek”\, nu met de titel “Grafiek25”. Het thema van dit jaar is Verbinden. Galerie Beeld & Aambeeld is gewend verbindingen te leggen tussen schilderijen en sieraden en verbindt dit najaar de polymeeretsen van Herma Deenen met de sieraden van Sylvia Blickman. \nHerma Deenen woont en werkt in Amsterdam waar ze ook haar opleiding had aan de Gerrit Rietveldacademie. Haar werkwijze is experimenteel en gericht op vernieuwing. Ze maakt gebruik van diverse grafische technieken en is altijd op zoek naar nieuwe methoden binnen de grafische kunst. Haar werk ontstaat vanuit een diepgaande verbinding met de natuur en de emoties die deze oproept. Beweging in water of wind over zandvlakten kunnen voor haar een begin zijn van een te maken beeld. Meestal vertrekt ze vanuit een gevoel of stemming die ze had bij één van haar tochten door de natuur. Ze zoekt naar kleuren\, mysterieuze lichtval\, schaduw in water of tussen bomen\, structuren in stenen. Daarbij is haar streven om niet alleen de uiterlijke verschijningsvormen van de natuur weer te geven\, maar ook de onderliggende emoties en de essentie ervan. Het experiment en nieuwe technieken in de grafische kunst helpen haar mee die beoogde sfeer te creëren. \nOok Sylvia Blickman had – nadat ze de vakschool in Schoonhoven had doorlopen – haar opleiding aan de Rietveldacademie en ook haar inspiratie komt uit de natuur. Over verbinden gesproken. Hoewel ze al jarenlang trouw is aan het voor haar zo kenmerkende materiaal geanodiseerd aluminium weet ze telkens opnieuw sieraden te produceren met verrassende onderwerpen en poëtische titels. Met haar sieraden wil zij aandacht voor het kwetsbare en voor het detail vragen. Bekend van haar zijn de ‘Bloem-Vlinders’\, geïnspireerd op de hortensia’s die voor haar atelier groeien. Haar nieuwste sieraden heeft zij letterlijk uit de zee ‘gegrepen’. De schelpen die ze verzamelt komen overal vandaan. Ze bewerkt ze op verschillende manieren. Zo voorziet ze mossel- en oesterschelpen van bladgoud\, maakt die draagbaar en toont zo hun grote schoonheid maar ook hun kwetsbaarheid. Met als resultaat vakkundig gemaakte kunstvoorwerpen met een verhaal die met trots gedragen mogen worden. \nDe tentoonstelling wordt geopend op zondag 7 september om 16:00 uur. De beide kunstenaars zijn daarbij aanwezig. Muziek: Ruud Ouwehand\, piano en Marijn Ouwehand\, zang. \nwww.beeldenaambeeld.nl 
URL:https://ondernemers.fgz.nl/evenement/verbinden-enschede/
LOCATION:Beeld & Aambeeld\, Walstraat 13\, Enschede\, 7511 GE
CATEGORIES:Business,Consumenten
ATTACH;FMTTYPE=image/png:https://ondernemers.fgz.nl/wp-content/uploads/2025/09/beeld-aambeeld-800-x-400.png
END:VEVENT
END:VCALENDAR