BEGIN:VCALENDAR
VERSION:2.0
PRODID:-//Federatie Goud en Zilver - ECPv6.15.20//NONSGML v1.0//EN
CALSCALE:GREGORIAN
METHOD:PUBLISH
X-ORIGINAL-URL:https://ondernemers.fgz.nl
X-WR-CALDESC:Evenementen voor Federatie Goud en Zilver
REFRESH-INTERVAL;VALUE=DURATION:PT1H
X-Robots-Tag:noindex
X-PUBLISHED-TTL:PT1H
BEGIN:VTIMEZONE
TZID:Europe/Amsterdam
BEGIN:DAYLIGHT
TZOFFSETFROM:+0100
TZOFFSETTO:+0200
TZNAME:CEST
DTSTART:20230326T010000
END:DAYLIGHT
BEGIN:STANDARD
TZOFFSETFROM:+0200
TZOFFSETTO:+0100
TZNAME:CET
DTSTART:20231029T010000
END:STANDARD
BEGIN:DAYLIGHT
TZOFFSETFROM:+0100
TZOFFSETTO:+0200
TZNAME:CEST
DTSTART:20240331T010000
END:DAYLIGHT
BEGIN:STANDARD
TZOFFSETFROM:+0200
TZOFFSETTO:+0100
TZNAME:CET
DTSTART:20241027T010000
END:STANDARD
BEGIN:DAYLIGHT
TZOFFSETFROM:+0100
TZOFFSETTO:+0200
TZNAME:CEST
DTSTART:20250330T010000
END:DAYLIGHT
BEGIN:STANDARD
TZOFFSETFROM:+0200
TZOFFSETTO:+0100
TZNAME:CET
DTSTART:20251026T010000
END:STANDARD
END:VTIMEZONE
BEGIN:VEVENT
DTSTART;VALUE=DATE:20241012
DTEND;VALUE=DATE:20241013
DTSTAMP:20260426T000902
CREATED:20240924T102711Z
LAST-MODIFIED:20241007T073920Z
UID:35844-1728691200-1728777599@ondernemers.fgz.nl
SUMMARY:Nationale Dag van Waarde
DESCRIPTION:Federatie TMV\, dé beroepsorganisatie van taxateurs\, makelaars en veilinghouders in roerende zaken\, organiseert een kennismaking met de branche op de derde editie van de Nationale Dag van Waarde. Op zaterdag 12 oktober 2024 van 11.00 tot 16.00 uur worden ook in het Nederlands Zilvermuseum in Schoonhoven gratis taxaties verricht van kunst\, antiek en inboedelgoederen door bij de TMV aangesloten taxateurs (wel met geldig entreebewijs).\nDe Federatie TMV bestaat 73 jaar. Haar leden verzorgen de waardebepaling en veiling van kunst\, antiek en andere roerende zaken als machinerieën en bedrijfsinventarissen\, hedendaagse of klassieke vervoersmiddelen. \nSchakel een TMV-gecertificeerde taxateur in\nVoor veel mensen is het benaderen van een taxateur iets waarmee ze niet vaak te maken krijgen. Soms moet het\, voor een verkoop\, soms ben je nieuwsgierig naar de waarde van bijvoorbeeld een erfstuk. Dan is het belangrijk om een betrouwbare expert in te schakelen als het om waardebepaling (geld) gaat. Hoe weet je dan bij wie je terecht kunt? Of men nu gespecialiseerd is in sieraden\, auto’s\, kunst\, tractoren of bedrijfsinventarissen – alle bij de Federatie TMV aangesloten taxateurs\, makelaars en veilinghouders hebben een vakbekwaamheidsexamen afgelegd en zijn officieel en onafhankelijk gecertificeerd: geen sinecure. Zij volgen eenduidige\, zware gedrags- en beroepsregels en hanteren uniforme waarde begrippen\, zodat hun waardeoordeel altijd kan worden getoetst. \nProgramma Nationale Dag van Waarde in het Nederlands Zilvermuseum Schoonhoven\nTijdens de Nationale Dag van Waarde op zaterdag 12 oktober 2024 kan de bezoeker op een laagdrempelige manier kennismaken met taxateurs. In het Nederlands Zilvermuseum kun je tussen 11.00 en 16.00 uur het museum bezoeken (met een geldig entreebewijs voor het museum: Museumkaart en Vriendenloterij VIP-kaart geldig) en daar vervolgens gratis voorwerpen laten taxeren. Er zijn taxateurs met verschillende expertises aanwezig: Ruben Aardewerk (kunst\, antiek en zilver)\, Arne Bonsaksen (kunst\, antiek en inboedelgoederen)\, Gemke Jager (zilveren gebruiksvoorwerpen)\, Anita Veenendaal (juwelen en edelstenen)\, George Hamel (juwelen\, edelstenen\, goud en zilver)\, Benno Weinands (kunst\, antiek en zilver). Let op\, om onnodig wachten te voorkomen kom je met maximaal twee personen en neem je samen niet meer dan drie (draagbare) objecten mee. \nEcht Nep!\nDe Nationale Dag van Waarde valt midden in de Maand van de Geschiedenis\, met dit jaar als thema: Echt Nep. Dit thema sluit naadloos aan bij de Nationale Dag van Waarde\, waarbij vragen over “is iets echt of nep\, kunst of kitsch?” centraal staan.\nZie voor meer informatie\, activiteiten en actuele exposities www.zilvermuseum.com en kijk ook op www.nationaledagvanwaarde.nl. Adres: Kazerneplein 4\, Schoonhoven. Volg voor parkeren P1 of 2 of navigeer naar het Doelenplein. Let op: P2 is op dit moment door bouwwerkzaamheden beperkt beschikbaar!
URL:https://ondernemers.fgz.nl/evenement/taxateurs-organiseren-nationale-dag-van-waarde/
CATEGORIES:Business,Consumenten
ATTACH;FMTTYPE=image/png:https://ondernemers.fgz.nl/wp-content/uploads/2024/09/dag-van-waarde-800-x-400-1.png
END:VEVENT
END:VCALENDAR