BEGIN:VCALENDAR
VERSION:2.0
PRODID:-//Federatie Goud en Zilver - ECPv6.15.20//NONSGML v1.0//EN
CALSCALE:GREGORIAN
METHOD:PUBLISH
X-ORIGINAL-URL:https://ondernemers.fgz.nl
X-WR-CALDESC:Evenementen voor Federatie Goud en Zilver
REFRESH-INTERVAL;VALUE=DURATION:PT1H
X-Robots-Tag:noindex
X-PUBLISHED-TTL:PT1H
BEGIN:VTIMEZONE
TZID:Europe/Amsterdam
BEGIN:DAYLIGHT
TZOFFSETFROM:+0100
TZOFFSETTO:+0200
TZNAME:CEST
DTSTART:20240331T010000
END:DAYLIGHT
BEGIN:STANDARD
TZOFFSETFROM:+0200
TZOFFSETTO:+0100
TZNAME:CET
DTSTART:20241027T010000
END:STANDARD
BEGIN:DAYLIGHT
TZOFFSETFROM:+0100
TZOFFSETTO:+0200
TZNAME:CEST
DTSTART:20250330T010000
END:DAYLIGHT
BEGIN:STANDARD
TZOFFSETFROM:+0200
TZOFFSETTO:+0100
TZNAME:CET
DTSTART:20251026T010000
END:STANDARD
BEGIN:DAYLIGHT
TZOFFSETFROM:+0100
TZOFFSETTO:+0200
TZNAME:CEST
DTSTART:20260329T010000
END:DAYLIGHT
BEGIN:STANDARD
TZOFFSETFROM:+0200
TZOFFSETTO:+0100
TZNAME:CET
DTSTART:20261025T010000
END:STANDARD
END:VTIMEZONE
BEGIN:VEVENT
DTSTART;VALUE=DATE:20250508
DTEND;VALUE=DATE:20250512
DTSTAMP:20260424T044700
CREATED:20250217T094957Z
LAST-MODIFIED:20250217T095318Z
UID:36537-1746662400-1747007999@ondernemers.fgz.nl
SUMMARY:GemGenève - Genève
DESCRIPTION:Van 8 tot 11 mei 2025 verzamelt de juwelenwereld zich in Genève voor een nieuwe editie van GemGenève. Hoe zou het zijn om zeldzame edelstenen te ontdekken\, antieke juwelen te kopen\, opkomende kunstenaars te ontmoeten\, ambachtslieden aan het werk te zien\, te luisteren naar een lezing over Golconda-diamanten en een tentoonstelling te bezoeken die gewijd is aan de mooiste juwelen van de twintigste eeuw – allemaal onder één dak ? \nDat is de belofte van GemGenève. Voor de komende editie heeft de beurs meer dan 200 internationaal gerenommeerde dealers geselecteerd. Handelaren in edelstenen en gekleurde edelstenen zullen samen met experts in vintage en antieke sieraden en andere historische stukken aanwezig zijn op wat volgens de organisatie een belangrijk commercieel\, educatief en cultureel evenement is geworden. \nGemGenève is de uitdaging aangegaan om zowel de juweelkunst als Genève zelf op het hoogste internationale niveau te promoten en tegelijkertijd een vriendelijke en ontspannen sfeer te behouden. “Dat zit heel erg in ons DNA. Ik geloof dat ons evenement er een is dat de markt zowel wil als nodig heeft”\, aldus Ronny Totah\, medeoprichter van GemGenève. \nHet DNA van de 9e editie\n‘Borders’ was het slotwoord op de vorige editie van GemGenève toen directeur Mathieu Dekeukelaire het thema voor de gouachewedstrijd in 2025 aankondigde. Naar aanleiding van deze uitnodiging aan de talenten van morgen om een sieraad te ontwerpen dat dit ambivalente concept verkent\, hebben de organisatoren na enkele maanden nadenken besloten om de opkomende generatie creatieve kunstenaars verder te ondersteunen door van ‘Borders’ ook de algemene rode draad van de 9e editie van de show te maken. \nSinds 2018 jongleert GemGenève met allerlei soorten grenzen – van India tot de VS via Brazilië\, Armenië\, Japan\, China en Oekraïne\, en verwelkomt deelnemers van over de hele wereld. “GemGenève brengt mensen samen die hun knowhow\, expertise en liefde voor juwelen en zeldzame edelstenen willen delen en doorgeven\, en is een inclusief evenement waar spelers uit de industrie en professionals schouder aan schouder staan met privéverzamelaars en amateurs naast stichtingen en culturele instellingen”\, aldus de beursorganisatie. “Door barrières tussen verschillende delen van de sieradenwereld te slechten\, doorbreekt GemGenève ook grenzen.” \nHet concept van de 9e editie\, dat nationaliteiten\, culturen en generaties met elkaar verbindt\, is het bouwen van bruggen tussen de verschillende werelden binnen juwelen: ambachtelijke en industriële output\, traditie en innovatie\, kunst en design\, cultuur en opleiding. “Het overschrijden van de grens is in de eerste acht edities een belangrijk onderdeel van het DNA van GemGenève geworden\, aangezien het evenement zijn identiteit heeft opgebouwd als een commercieel\, cultureel\, artistiek\, wetenschappelijk en educatief forum.” \nCijfers\n• 4 dagen interactie en discussie\n• 250 exposanten\, waaronder meer dan 200 internationale handelaars\n• 75 nationaliteiten\n• 15 500 m² tentoonstellingsruimte\n• Tot 4.000 bezoekers verwacht (de 8e editie afgelopen mei verwelkomde 3.566 bezoekers\, een stijging van 10% ten opzichte van de 7e editie) \nwww.gemgeneve.com
URL:https://ondernemers.fgz.nl/evenement/gemgeneve-geneve/
LOCATION:Palexpo\, Route François-Peyrot 30\, Le Grand-Saconnex\, CH-1218\, Switzerland
CATEGORIES:Business,Consumenten
ATTACH;FMTTYPE=image/png:https://ondernemers.fgz.nl/wp-content/uploads/2025/02/gemgeneve-800-x-400.png
END:VEVENT
END:VCALENDAR