BEGIN:VCALENDAR
VERSION:2.0
PRODID:-//Federatie Goud en Zilver - ECPv6.15.20//NONSGML v1.0//EN
CALSCALE:GREGORIAN
METHOD:PUBLISH
X-ORIGINAL-URL:https://ondernemers.fgz.nl
X-WR-CALDESC:Evenementen voor Federatie Goud en Zilver
REFRESH-INTERVAL;VALUE=DURATION:PT1H
X-Robots-Tag:noindex
X-PUBLISHED-TTL:PT1H
BEGIN:VTIMEZONE
TZID:Europe/Amsterdam
BEGIN:DAYLIGHT
TZOFFSETFROM:+0100
TZOFFSETTO:+0200
TZNAME:CEST
DTSTART:20240331T010000
END:DAYLIGHT
BEGIN:STANDARD
TZOFFSETFROM:+0200
TZOFFSETTO:+0100
TZNAME:CET
DTSTART:20241027T010000
END:STANDARD
BEGIN:DAYLIGHT
TZOFFSETFROM:+0100
TZOFFSETTO:+0200
TZNAME:CEST
DTSTART:20250330T010000
END:DAYLIGHT
BEGIN:STANDARD
TZOFFSETFROM:+0200
TZOFFSETTO:+0100
TZNAME:CET
DTSTART:20251026T010000
END:STANDARD
BEGIN:DAYLIGHT
TZOFFSETFROM:+0100
TZOFFSETTO:+0200
TZNAME:CEST
DTSTART:20260329T010000
END:DAYLIGHT
BEGIN:STANDARD
TZOFFSETFROM:+0200
TZOFFSETTO:+0100
TZNAME:CET
DTSTART:20261025T010000
END:STANDARD
END:VTIMEZONE
BEGIN:VEVENT
DTSTART;VALUE=DATE:20251001
DTEND;VALUE=DATE:20251005
DTSTAMP:20260425T162230
CREATED:20250626T093018Z
LAST-MODIFIED:20250626T093018Z
UID:36959-1759276800-1759622399@ondernemers.fgz.nl
SUMMARY:Istanbul Jewellery Show - Istanbul
DESCRIPTION:De IJS\, Istanbul International Jewelry\, Watch & Equipment Fair\, is een van de top 5 internationale beurzen die sinds 1986 de belangrijke bedrijven\, merken en kopers van de sieradenindustrie samenbrengen. Professionals uit de sector kunnen alle producten onder één dak bekijken en bestellen. De IJS wordt gehouden van 1 t/m 4 oktober.\nAls de grootste tentoonstelling van de regio die sinds 1986 ononderbroken is georganiseerd\, biedt IJS Istanbul Jewelry Show unieke informatie-uitwisseling en zakelijke kansen voor alle sieradenprofessionals van Oost-Europa tot het Nabije Oosten\, van Rusland tot Noord-Afrika\, van GOS-landen tot het Midden-Oosten\nIJS Istanbul Jewelry Show wordt gebruikt als een uitgebreide marktplaats voor internationale sieradengemeenschappen en professionals. Het steeds groeiende aantal deelnemers en aanwezigen\, vergezeld van de diverse diensten met toegevoegde waarde\, hebben een unieke zakelijke omgeving gecreëerd in een van de snelst ontwikkelende regio’s ter wereld. \nwww.istanbuljewelryshow.com
URL:https://ondernemers.fgz.nl/evenement/istanbul-jewellery-show-istanbul/
LOCATION:Istanbul Jewelry Show\, Istanbul\, Turkije
CATEGORIES:Business
ATTACH;FMTTYPE=image/png:https://ondernemers.fgz.nl/wp-content/uploads/2024/06/istanbul-vakagenda.png
END:VEVENT
END:VCALENDAR