BEGIN:VCALENDAR
VERSION:2.0
PRODID:-//Federatie Goud en Zilver - ECPv6.15.20//NONSGML v1.0//EN
CALSCALE:GREGORIAN
METHOD:PUBLISH
X-WR-CALNAME:Federatie Goud en Zilver
X-ORIGINAL-URL:https://ondernemers.fgz.nl
X-WR-CALDESC:Evenementen voor Federatie Goud en Zilver
REFRESH-INTERVAL;VALUE=DURATION:PT1H
X-Robots-Tag:noindex
X-PUBLISHED-TTL:PT1H
BEGIN:VTIMEZONE
TZID:Europe/Amsterdam
BEGIN:DAYLIGHT
TZOFFSETFROM:+0100
TZOFFSETTO:+0200
TZNAME:CEST
DTSTART:20250330T010000
END:DAYLIGHT
BEGIN:STANDARD
TZOFFSETFROM:+0200
TZOFFSETTO:+0100
TZNAME:CET
DTSTART:20251026T010000
END:STANDARD
BEGIN:DAYLIGHT
TZOFFSETFROM:+0100
TZOFFSETTO:+0200
TZNAME:CEST
DTSTART:20260329T010000
END:DAYLIGHT
BEGIN:STANDARD
TZOFFSETFROM:+0200
TZOFFSETTO:+0100
TZNAME:CET
DTSTART:20261025T010000
END:STANDARD
BEGIN:DAYLIGHT
TZOFFSETFROM:+0100
TZOFFSETTO:+0200
TZNAME:CEST
DTSTART:20270328T010000
END:DAYLIGHT
BEGIN:STANDARD
TZOFFSETFROM:+0200
TZOFFSETTO:+0100
TZNAME:CET
DTSTART:20271031T010000
END:STANDARD
END:VTIMEZONE
BEGIN:VEVENT
DTSTART;VALUE=DATE:20260920
DTEND;VALUE=DATE:20260922
DTSTAMP:20260423T134403
CREATED:20260330T122418Z
LAST-MODIFIED:20260407T074320Z
UID:37843-1789862400-1790035199@ondernemers.fgz.nl
SUMMARY:JewelPro Days | Rosmalen
DESCRIPTION:Op 20 en 21 september 2026 staat de tweede editie van JewelPro Days in Rosmalen gepland. De interesse vanuit de markt is groot en standplaatsen gaan snel. Wil jij jouw merk presenteren aan juweliers\, edelsmeden\, conceptstores en betere fashionstores? Dan is dit het moment.\nDe eerste editie van JewelPro Days was meteen raak\, aldus de beursorganisatie: een uitverkochte beursvloer\, 1.254 vakbezoekers van 631 unieke bedrijven en een wachtlijst voor exposanten. De sieradenbranche greep het moment aan\, voor inspiratie\, het ontdekken van nieuwe collecties en het leggen van directe leverancierscontacten. \nDeelnemen is volledig ontzorgd\n“Bij JewelPro Days regelen wij het merendeel: gratis parkeren\, catering\, wifi\, badgescanner app\, online bedrijfsprofiel en persoonlijke begeleiding. Voor merken in het luxe segment bieden we bovendien een aparte\, beveiligde presentatieruimte met 24/7 beveiliging en kluizen op aanvraag. Standplaatsen zijn beschikbaar vanaf € 1.029 voor een 6m² stand\, zonder verborgen kosten. \nwww.jewelpro.nl
URL:https://ondernemers.fgz.nl/evenement/jewelpro-days-rosmalen/
LOCATION:Autotron\, Graafsebaan 133\, Den Bosch\, 5248 NL
CATEGORIES:Business
ATTACH;FMTTYPE=image/png:https://ondernemers.fgz.nl/wp-content/uploads/2026/03/jewelpro-days-800-x-400.png
END:VEVENT
END:VCALENDAR