BEGIN:VCALENDAR
VERSION:2.0
PRODID:-//Federatie Goud en Zilver - ECPv6.15.20//NONSGML v1.0//EN
CALSCALE:GREGORIAN
METHOD:PUBLISH
X-ORIGINAL-URL:https://ondernemers.fgz.nl
X-WR-CALDESC:Evenementen voor Federatie Goud en Zilver
REFRESH-INTERVAL;VALUE=DURATION:PT1H
X-Robots-Tag:noindex
X-PUBLISHED-TTL:PT1H
BEGIN:VTIMEZONE
TZID:Europe/Amsterdam
BEGIN:DAYLIGHT
TZOFFSETFROM:+0100
TZOFFSETTO:+0200
TZNAME:CEST
DTSTART:20250330T010000
END:DAYLIGHT
BEGIN:STANDARD
TZOFFSETFROM:+0200
TZOFFSETTO:+0100
TZNAME:CET
DTSTART:20251026T010000
END:STANDARD
BEGIN:DAYLIGHT
TZOFFSETFROM:+0100
TZOFFSETTO:+0200
TZNAME:CEST
DTSTART:20260329T010000
END:DAYLIGHT
BEGIN:STANDARD
TZOFFSETFROM:+0200
TZOFFSETTO:+0100
TZNAME:CET
DTSTART:20261025T010000
END:STANDARD
BEGIN:DAYLIGHT
TZOFFSETFROM:+0100
TZOFFSETTO:+0200
TZNAME:CEST
DTSTART:20270328T010000
END:DAYLIGHT
BEGIN:STANDARD
TZOFFSETFROM:+0200
TZOFFSETTO:+0100
TZNAME:CET
DTSTART:20271031T010000
END:STANDARD
END:VTIMEZONE
BEGIN:VEVENT
DTSTART;VALUE=DATE:20260114
DTEND;VALUE=DATE:20260115
DTSTAMP:20260421T121518
CREATED:20251229T113257Z
LAST-MODIFIED:20251229T114655Z
UID:37343-1768348800-1768435199@ondernemers.fgz.nl
SUMMARY:Vereniging Gemma: Martijn Akkerman - Amsterdam
DESCRIPTION:Wie kent hem niet? Martijn Akkerman\, bekend van ‘Tussen kunst en kitsch’\, auteur van verschillende boeken over juwelen en een fantastische verhalenverteller. Op 14 januari ontvangt edelsteenvereniging Gemma de kunsthistoricus voor een interessante presentatie.\nGeboren in Alkmaar\, gefascineerd door de streekjuwelen en vervolgens een heel leven in het teken van historische juwelen en hun geschiedenis. In zijn boek ‘Sprekende Juwelen’ deelt Martijn Akkerman zijn kennis over sieraden en juwelen. Binnenkort wordt zijn nieuwe boek uitgebracht: ‘Een leven in juwelen’. \nDe verhalen achter de juwelen vertellen is een passie voor de juwelenhistoricus. Vereniging Gemma: “Wij zijn heel blij dat wij Martijn mogen ontvangen en dat we kunnen luisteren naar de interessante verhalen die hij op een heerlijke manier weet te vertellen.” \nDe presentatie vindt plaats op woensdag 14 januari van 19.45 tot ca. 21.45\, op de VU\, locatie HG 14A33\, De Boelelaan 1105\, 1081 HV Amsterdam. De lezing is toegankelijk voor leden en niet-leden van Gemma. Niet-leden betalen € 10. Van te voren opgeven is niet nodig. Klik hier voor meer informatie.
URL:https://ondernemers.fgz.nl/evenement/vereniging-gemma-martijn-akkerman-amsterdam/
LOCATION:VU\, locatie HG 14A33\, De Boelelaan 1105\, Amsterdam\, 1081 HV
CATEGORIES:Business
ATTACH;FMTTYPE=image/png:https://ondernemers.fgz.nl/wp-content/uploads/2025/12/gemma-800-x-400.png
END:VEVENT
END:VCALENDAR