BEGIN:VCALENDAR
VERSION:2.0
PRODID:-//Federatie Goud en Zilver - ECPv6.15.20//NONSGML v1.0//EN
CALSCALE:GREGORIAN
METHOD:PUBLISH
X-ORIGINAL-URL:https://ondernemers.fgz.nl
X-WR-CALDESC:Evenementen voor Federatie Goud en Zilver
REFRESH-INTERVAL;VALUE=DURATION:PT1H
X-Robots-Tag:noindex
X-PUBLISHED-TTL:PT1H
BEGIN:VTIMEZONE
TZID:Europe/Amsterdam
BEGIN:DAYLIGHT
TZOFFSETFROM:+0100
TZOFFSETTO:+0200
TZNAME:CEST
DTSTART:20230326T010000
END:DAYLIGHT
BEGIN:STANDARD
TZOFFSETFROM:+0200
TZOFFSETTO:+0100
TZNAME:CET
DTSTART:20231029T010000
END:STANDARD
BEGIN:DAYLIGHT
TZOFFSETFROM:+0100
TZOFFSETTO:+0200
TZNAME:CEST
DTSTART:20240331T010000
END:DAYLIGHT
BEGIN:STANDARD
TZOFFSETFROM:+0200
TZOFFSETTO:+0100
TZNAME:CET
DTSTART:20241027T010000
END:STANDARD
BEGIN:DAYLIGHT
TZOFFSETFROM:+0100
TZOFFSETTO:+0200
TZNAME:CEST
DTSTART:20250330T010000
END:DAYLIGHT
BEGIN:STANDARD
TZOFFSETFROM:+0200
TZOFFSETTO:+0100
TZNAME:CET
DTSTART:20251026T010000
END:STANDARD
END:VTIMEZONE
BEGIN:VEVENT
DTSTART;VALUE=DATE:20240914
DTEND;VALUE=DATE:20240916
DTSTAMP:20260426T000841
CREATED:20240902T132159Z
LAST-MODIFIED:20240902T132244Z
UID:35767-1726272000-1726444799@ondernemers.fgz.nl
SUMMARY:MTN Lapidari Weekend - Giethoorn
DESCRIPTION:MTN-Giethoorn organiseert op 14 en 15 september de 24e editie van het Lapidari Weekend\, de open huis show met demonstraties\, exposities en presentaties over edelstenen\, sieraden\, kristallen en bewerkingsmachines.\nWat is er te beleven tijdens dit weekend? \n• Demonstraties\n• Fossielen prepareren\n• Edelsteenslijpen\n• Presentaties\n• Zand vanuit de hele wereld\n• Geologische vereniging Kristal uit Groningen\n• Metaaldetectie\, schatten uit het verleden (alleen zaterdag)\n• Expositie\n• Verzamelmineralen van klein tot groot\n• Aanbiedingen en kortingen\n• Uitgebreide collectie edelsteensieraden\n• Groot assortiment Edelstenen en Mineralen voor slijpers en verzamelaars\n• Ruim aanbod van edelsteen bewerkingsmachines: Lortone\, Covington en meer\n• Heel veel Lapidari benodigdheden\n• Korte workshop zelf stenen slijpen (aanmelden kan hier)\n• En nog veel meer \nDe toegang is gratis. \nMTN-Giethoorn\nKanaaldijk 18\n8355 VJ Giethoorn\n0521-361544\nwww.mtn.nl
URL:https://ondernemers.fgz.nl/evenement/mtn-lapidari-weekend-giethoorn/
LOCATION:MTN Giethoorn\, Kanaaldijk 18\, Giethoorn\, 8355 VJ
CATEGORIES:Business,Consumenten
ATTACH;FMTTYPE=image/png:https://ondernemers.fgz.nl/wp-content/uploads/2024/09/MTN-800-x-400.png
END:VEVENT
END:VCALENDAR