BEGIN:VCALENDAR
VERSION:2.0
PRODID:-//Federatie Goud en Zilver - ECPv6.15.20//NONSGML v1.0//EN
CALSCALE:GREGORIAN
METHOD:PUBLISH
X-WR-CALNAME:Federatie Goud en Zilver
X-ORIGINAL-URL:https://ondernemers.fgz.nl
X-WR-CALDESC:Evenementen voor Federatie Goud en Zilver
REFRESH-INTERVAL;VALUE=DURATION:PT1H
X-Robots-Tag:noindex
X-PUBLISHED-TTL:PT1H
BEGIN:VTIMEZONE
TZID:Europe/Amsterdam
BEGIN:DAYLIGHT
TZOFFSETFROM:+0100
TZOFFSETTO:+0200
TZNAME:CEST
DTSTART:20250330T010000
END:DAYLIGHT
BEGIN:STANDARD
TZOFFSETFROM:+0200
TZOFFSETTO:+0100
TZNAME:CET
DTSTART:20251026T010000
END:STANDARD
BEGIN:DAYLIGHT
TZOFFSETFROM:+0100
TZOFFSETTO:+0200
TZNAME:CEST
DTSTART:20260329T010000
END:DAYLIGHT
BEGIN:STANDARD
TZOFFSETFROM:+0200
TZOFFSETTO:+0100
TZNAME:CET
DTSTART:20261025T010000
END:STANDARD
BEGIN:DAYLIGHT
TZOFFSETFROM:+0100
TZOFFSETTO:+0200
TZNAME:CEST
DTSTART:20270328T010000
END:DAYLIGHT
BEGIN:STANDARD
TZOFFSETFROM:+0200
TZOFFSETTO:+0100
TZNAME:CET
DTSTART:20271031T010000
END:STANDARD
END:VTIMEZONE
BEGIN:VEVENT
DTSTART;VALUE=DATE:20260509
DTEND;VALUE=DATE:20260513
DTSTAMP:20260423T181436
CREATED:20260305T132405Z
LAST-MODIFIED:20260421T130242Z
UID:37667-1778284800-1778630399@ondernemers.fgz.nl
SUMMARY:Oroarezzo | Arezzo
DESCRIPTION:De internationale vakbeurs Oroarezzo vindt van 9 t/m 12 mei plaats in Arezzo Italië. Tijdens deze 45e editie verwelkomt de beursorganisatie IEG (Italian Exhibition Group) topexposanten en bezoekers uit de internationale goud- en sieradenindustrie.\nOroarezzo legt dit jaar de focus nadrukkelijk op internationale groeimarkten en het bieden van concrete tools voor sieradenbedrijven die hun export willen versterken. De beurs werkt samen met de Italian Trade Agency (ITA) aan een sterke internationale delegatie van hosted buyers. Daarbij ligt de nadruk op markten als de Verenigde Staten en de Verenigde Arabische Emiraten\, terwijl ook groeiende markten zoals Canada\, Polen\, China en Japan aandacht krijgen. \nNieuw tijdens Oroarezzo 2026 is een internationaal congres over geopolitieke ontwikkelingen en exportkansen voor de sieradenindustrie. Thema’s zijn onder meer vrijhandelsakkoorden tussen de EU en India\, supply chains tussen de VS en Canada en nieuwe kansen in Afrika. Tijdens de vorige editie namen meer dan 370 exposanten deel en ontving de beurs ongeveer 400 internationale buyers. Met de komende editie wil IEG deze internationale aanwezigheid verder versterken. \nwww.oroarezzo.it/en
URL:https://ondernemers.fgz.nl/evenement/oroarezzo-arezzo-2/
CATEGORIES:Business
ATTACH;FMTTYPE=image/png:https://ondernemers.fgz.nl/wp-content/uploads/2026/03/oroarezzo-800-x-400.png
END:VEVENT
END:VCALENDAR