BEGIN:VCALENDAR
VERSION:2.0
PRODID:-//Federatie Goud en Zilver - ECPv6.15.20//NONSGML v1.0//EN
CALSCALE:GREGORIAN
METHOD:PUBLISH
X-ORIGINAL-URL:https://ondernemers.fgz.nl
X-WR-CALDESC:Evenementen voor Federatie Goud en Zilver
REFRESH-INTERVAL;VALUE=DURATION:PT1H
X-Robots-Tag:noindex
X-PUBLISHED-TTL:PT1H
BEGIN:VTIMEZONE
TZID:Europe/Amsterdam
BEGIN:DAYLIGHT
TZOFFSETFROM:+0100
TZOFFSETTO:+0200
TZNAME:CEST
DTSTART:20240331T010000
END:DAYLIGHT
BEGIN:STANDARD
TZOFFSETFROM:+0200
TZOFFSETTO:+0100
TZNAME:CET
DTSTART:20241027T010000
END:STANDARD
BEGIN:DAYLIGHT
TZOFFSETFROM:+0100
TZOFFSETTO:+0200
TZNAME:CEST
DTSTART:20250330T010000
END:DAYLIGHT
BEGIN:STANDARD
TZOFFSETFROM:+0200
TZOFFSETTO:+0100
TZNAME:CET
DTSTART:20251026T010000
END:STANDARD
BEGIN:DAYLIGHT
TZOFFSETFROM:+0100
TZOFFSETTO:+0200
TZNAME:CEST
DTSTART:20260329T010000
END:DAYLIGHT
BEGIN:STANDARD
TZOFFSETFROM:+0200
TZOFFSETTO:+0100
TZNAME:CET
DTSTART:20261025T010000
END:STANDARD
BEGIN:DAYLIGHT
TZOFFSETFROM:+0100
TZOFFSETTO:+0200
TZNAME:CEST
DTSTART:20270328T010000
END:DAYLIGHT
BEGIN:STANDARD
TZOFFSETFROM:+0200
TZOFFSETTO:+0100
TZNAME:CET
DTSTART:20271031T010000
END:STANDARD
END:VTIMEZONE
BEGIN:VEVENT
DTSTART;VALUE=DATE:20251030
DTEND;VALUE=DATE:20260914
DTSTAMP:20260424T132049
CREATED:20250925T120113Z
LAST-MODIFIED:20260407T074932Z
UID:37092-1761782400-1789343999@ondernemers.fgz.nl
SUMMARY:Please Touch | Schoonhoven
DESCRIPTION:In de nieuwe tentoonstelling ‘Please Touch’ stelt het Nederlands Zilvermuseum een eeuwenoude museumregel op scherp: ‘Niet aanraken’. Waar musea tegenwoordig bijna al hun objecten beschermen achter glas\, nodigt ‘Please Touch’ bezoekers uit om in sommige gevallen de werken aan te raken. Te zien vanaf 30 oktober. \nConserveren versus beleven\nZilveren voorwerpen zijn kwetsbaar: vingerafdrukken kunnen blijvende schade aanrichten en luchtverontreiniging zorgt ervoor dat zilver zwart uitslaat. Toch zijn juist deze objecten ooit gemaakt om gebruikt te worden. Pronkstukken gingen van hand tot hand op feestelijke diners\, religieuze voorwerpen werden aangeraakt in de hoop op genezing. Gebruik liet sporen na: tastbare herinneringen aan menselijke interactie. \n‘Please Touch’ werpt een kritisch licht op het conserverende karakter van musea en stelt vragen over de verhouding tussen aanraking\, beleving en betekenis. Aanraking is een natuurlijk basisbehoefte\, een baby leert al vanaf de geboorte op zijn zintuigen te vertrouwen voor voeding en ontwikkeling. Het voelen kan herinneringen losmaken of de geest naar andere tijden doen reizen. \nWat aanraking met je doet\nDe tentoonstelling laat bezoekers letterlijk en figuurlijk stilstaan bij wat verloren gaat als aanraking ontbreekt. Hoe zwaar is een zilveren schaal? Hoe voelt het oppervlak van een eeuwenoude kelk? \nNaast originele voorwerpen uit de eigen collectie en van andere musea\, toont het museum speciaal vervaardigde replica’s en nieuwe kunstwerken\, bijvoorbeeld van de smeden Maja Houtman en Thalen & Thalen. Enkele daarvan zijn specifiek bedoeld om aan te raken\, dit draagt bij aan de waarde of beleving van het object. Ook zijn er unieke objecten die door de tijd heen veranderingen hebben ondergaan door aanraking van mensen\, water\, vuur of grond. \nBezoekers worden uitgenodigd om mee te denken over het effect en nut van zintuigelijk contact in het museum voor de persoonlijke beleving.\nDe tentoonstelling is vanaf 30 oktober 2025 t/m 13 september 2026 te bezoeken in het Nederlands Zilvermuseum in Schoonhoven. \nwww.zilvermuseum.com \nFoto: “HEILIG HART” (der Zilversmeden)\, 1990\, Jan Matthesius\nDe in 1990 opgerichte Stichting Zilver In Beweging zette vastgelopen vormgevingsideeën over grootzilver en de bewerking van zilver in beweging. Dat inspireerde Jan. De bezoeker kan uit het bakje in het midden wat fijn zilverpoeder pakken en aan te brengen. Zo raakt het rode hart langzaam verzilverd. Foto: Stephan Tellier
URL:https://ondernemers.fgz.nl/evenement/please-touch-schoonhoven/
LOCATION:Nederlands Zilvermuseum\, Kazerneplein 4\, Schoonhoven\, 2871 CZ
CATEGORIES:Business,Consumenten
ATTACH;FMTTYPE=image/png:https://ondernemers.fgz.nl/wp-content/uploads/2025/09/please-touch-800-x-400.png
END:VEVENT
END:VCALENDAR