BEGIN:VCALENDAR
VERSION:2.0
PRODID:-//Federatie Goud en Zilver - ECPv6.15.20//NONSGML v1.0//EN
CALSCALE:GREGORIAN
METHOD:PUBLISH
X-ORIGINAL-URL:https://ondernemers.fgz.nl
X-WR-CALDESC:Evenementen voor Federatie Goud en Zilver
REFRESH-INTERVAL;VALUE=DURATION:PT1H
X-Robots-Tag:noindex
X-PUBLISHED-TTL:PT1H
BEGIN:VTIMEZONE
TZID:Europe/Amsterdam
BEGIN:DAYLIGHT
TZOFFSETFROM:+0100
TZOFFSETTO:+0200
TZNAME:CEST
DTSTART:20240331T010000
END:DAYLIGHT
BEGIN:STANDARD
TZOFFSETFROM:+0200
TZOFFSETTO:+0100
TZNAME:CET
DTSTART:20241027T010000
END:STANDARD
BEGIN:DAYLIGHT
TZOFFSETFROM:+0100
TZOFFSETTO:+0200
TZNAME:CEST
DTSTART:20250330T010000
END:DAYLIGHT
BEGIN:STANDARD
TZOFFSETFROM:+0200
TZOFFSETTO:+0100
TZNAME:CET
DTSTART:20251026T010000
END:STANDARD
BEGIN:DAYLIGHT
TZOFFSETFROM:+0100
TZOFFSETTO:+0200
TZNAME:CEST
DTSTART:20260329T010000
END:DAYLIGHT
BEGIN:STANDARD
TZOFFSETFROM:+0200
TZOFFSETTO:+0100
TZNAME:CET
DTSTART:20261025T010000
END:STANDARD
BEGIN:DAYLIGHT
TZOFFSETFROM:+0100
TZOFFSETTO:+0200
TZNAME:CEST
DTSTART:20270328T010000
END:DAYLIGHT
BEGIN:STANDARD
TZOFFSETFROM:+0200
TZOFFSETTO:+0100
TZNAME:CET
DTSTART:20271031T010000
END:STANDARD
END:VTIMEZONE
BEGIN:VEVENT
DTSTART;VALUE=DATE:20260414
DTEND;VALUE=DATE:20260415
DTSTAMP:20260423T223339
CREATED:20260316T104359Z
LAST-MODIFIED:20260407T074445Z
UID:37692-1776124800-1776211199@ondernemers.fgz.nl
SUMMARY:Lezing Haegsche Tijd | Den Haag
DESCRIPTION:Op dinsdag 14 april 2026 organiseert de Stichting Haegsche Tijd in samenwerking met het Venduehuis der Notarissen te ’s-Gravenhage een feestelijke bijeenkomst ter gelegenheid van de verjaardag van Christiaan Huygens.\nHet is voor de achtste maal dat de stichting deze verjaardag viering organiseert in de Nobelzaal van het Venduehuis\, Nobelstraat 5 te ’s-Gravenhage. Dit keer met medewerking van de bekende schrijfster en filosoof Joke Hermsen. Het is de Stichting Haegsche Tijd een groot genoegen u uit te nodigen. \nProgramma\nHet programma van deze feestelijke bijeenkomst ziet er als volgt uit: \n14.45 uur Inloop in de Nobelzaal waar de lezing wordt gehouden\n15.00 uur Welkomstwoord door Joost Albers\n15.05 uur Lezing “Tijd is hoop. Nieuwe manieren van hoopvol denken” door Joke Hermsen\n16.00 uur Verhuizen naar beneden alwaar er een drankje wordt aangeboden en de kunstwerken uit de veiling in de toonzalen kunnen worden bezichtigd\n16.45 uur Einde \nOpgeven\nU kunt zich opgeven voor deze lezing door een email te sturen naar info@haegschetijd.nl\, met vermelding “Joke Hermsen” en het aantal personen.\nHoewel de lezing gratis wordt aangeboden\, wordt uw vrijwillige bijdrage in de kosten zeer gewaardeerd. Dit kunt u doen vooraf via bijgevoegde link en QR code (zie beneden)\, of tijdens de lezing. \nOver de lezing\nWaarop mogen we hopen? Het is een vraag die in de 18e eeuw al door Immanuel Kant werd opgeworpen\, en waarop we ook tegenwoordig het antwoord zoeken. Hoe kunnen we in deze tijden van angst en onzekerheid nog hoopvol blijven?\nIn de Griekse mythologie bleef de hoop als enige ‘gave’ achter in de kruik van Pandora. Dit geeft de hoop iets raadselachtigs. We kunnen de hoop weliswaar ervaren\, maar benoemen of voorspellen kunnen we haar niet.\nHoop heeft met ons bewustzijn van tijd en met het verwachten van het onverwachte van de toekomst te maken. Onze hoop wordt mede gevoed door inspirerende verhalen\, herinneringen en ontmoetingen met anderen. \nOver de spreker\nJoke Hermsen studeerde literatuur en filosofie in Amsterdam en Parijs. In 1993 promoveerde ze aan de Universiteit Utrecht. Zij is auteur van veelgeprezen romans en filosofische boeken.\nIn haar werk onderzoekt zij verschillende ideeën over tijd. Ze laat zien dat de oude Grieken twee vormen van tijd kenden\, elk vertegenwoordigd door een god.\nChronos\, van wie ons woord ‘chronologie’ is afgeleid\, was de god van de kloktijd: de lineaire tijd waarin uren en minuten wegtikken.\nDaartegenover staat Kairos\, de god van de ontregelende tijd – of letterlijk: de god van het juiste ogenblik. Een god die ons probeert los te maken van de kloktijd en ons wil laten léven.\nBekende boeken van haar zijn o.a. “Stil de Tijd”\, “Kairos”\, en het recent verschenen boek “Tijd is Hoop”. \nVrijwillige bijdrage\nUw kunt de vrijwillige bijdrage overmaken naar de bankrekening van Stichting Haegsche Tijd NL64 INGB 0009 2007 73 onder vermelding “Joke Hermsen”.\nU kunt ook deze link of QR code gebruiken en zelf het bedrag invoeren. \n \nwww.haegschetijd.nl
URL:https://ondernemers.fgz.nl/evenement/lezing-haegsche-tijd-den-haag/
CATEGORIES:Business
ATTACH;FMTTYPE=image/png:https://ondernemers.fgz.nl/wp-content/uploads/2026/03/haegsche-tijd-800-x-400-1.png
END:VEVENT
BEGIN:VEVENT
DTSTART;VALUE=DATE:20251112
DTEND;VALUE=DATE:20251113
DTSTAMP:20260423T223339
CREATED:20251014T082132Z
LAST-MODIFIED:20251014T082132Z
UID:37151-1762905600-1762991999@ondernemers.fgz.nl
SUMMARY:Lezing ontstaansgeschiedenis spiraalveer
DESCRIPTION:Ter afsluiting van dit jaar – dat in het teken staat van 350 jaar balansveer – organiseert de Stichting Haegsche Tijd op woensdag 12 november a.s. een lezing in de Nobelzaal van het Venduehuis der Notarissen\, Nobelstraat 5\, Den Haag.\nDe Stichting Haegsche Tijd is verheugd dat Rob Memel\, die uitgebreid onderzoek heeft gedaan naar de uurwerktechnische bijdragen van Christiaan Huygens\, een lezing wil verzorgen naar aanleiding van zijn onlangs verschenen boek over de ontstaansgeschiedenis van de spiraalveer. Op 14 april jl. moest Rob wegens griep verstek laten gaan; dit keer kan hij zijn verhaal gelukkig wel met ons delen. \nVoorafgaand aan de lezing wordt u een kopje koffie of thee aangeboden en kunt u in de toonzalen van het Venduehuis der Notarissen de kunstwerken uit de veiling “Old Masters\, Nineteenth Century & Early Modern Art” vóór bezichtigen. \nProgramma\nHet programma van deze feestelijke bijeenkomst ziet er als volgt uit:\n14.45 uur Inloop met koffie/thee en bezichtiging veiling\n15:20 uur Welkomstwoord door Joost Albers\, voorzitter Stichting Haegsche Tijd\n15:30 uur Lezing De ontwikkeling naar Huygens’ spiraalveer (1660- 1676)\, Rob Memel\n16:30 uur Einde \nSpreker\nRob Memel is gediplomeerd horlogemaker en gespecialiseerd restaurator van antieke klokken en instrumenten. Hij publiceerde diverse artikelen\, onder meer over de eerste slingerklok (zie website Stichting Haegsche Tijd). Met een recente bijdrage in het toonaangevende wetenschapsblad Chronométrophilia over de ontstaansgeschiedenis van de balansveer leverde hij een belangrijke onderbouwing voor de ontdekking van de spiraalveer door Christiaan Huygens. Al 350 jaar vormt deze balansveer het hart van mechanische polshorloges. Zijn artikel is inmiddels in boekvorm verschenen\, aangevuld met voorbeelden van Hans van den Ende en een wiskundige onderbouwing door Tijmen Jan Moser. Helaas is de Nederlandstalige versie uitverkocht maar er zijn nog enkele Engelstalige exemplaren beschikbaar. \nAanmelden\nDe Stichting Haegsche Tijd rekent op een grote opkomst. De toegang is gratis. U wordt verzocht zich tijdig aan te melden met opgaaf van het aantal personen via het emailadres info@haegschetijd.nl. Belangstellenden worden aangemoedigd zich als Vriend van de Stichting in te schrijven. \nwww.haegschetijd.nl
URL:https://ondernemers.fgz.nl/evenement/lezing-ontstaansgeschiedenis-spiraalveer/
LOCATION:Venduehuis der Notarissen\, Nobelstraat 5\, Den Haag\, 2513 BC
CATEGORIES:Business
ATTACH;FMTTYPE=image/png:https://ondernemers.fgz.nl/wp-content/uploads/2025/10/balansveer-800-x-400.png
END:VEVENT
END:VCALENDAR