BEGIN:VCALENDAR
VERSION:2.0
PRODID:-//Federatie Goud en Zilver - ECPv6.15.20//NONSGML v1.0//EN
CALSCALE:GREGORIAN
METHOD:PUBLISH
X-ORIGINAL-URL:https://ondernemers.fgz.nl
X-WR-CALDESC:Evenementen voor Federatie Goud en Zilver
REFRESH-INTERVAL;VALUE=DURATION:PT1H
X-Robots-Tag:noindex
X-PUBLISHED-TTL:PT1H
BEGIN:VTIMEZONE
TZID:Europe/Amsterdam
BEGIN:DAYLIGHT
TZOFFSETFROM:+0100
TZOFFSETTO:+0200
TZNAME:CEST
DTSTART:20240331T010000
END:DAYLIGHT
BEGIN:STANDARD
TZOFFSETFROM:+0200
TZOFFSETTO:+0100
TZNAME:CET
DTSTART:20241027T010000
END:STANDARD
BEGIN:DAYLIGHT
TZOFFSETFROM:+0100
TZOFFSETTO:+0200
TZNAME:CEST
DTSTART:20250330T010000
END:DAYLIGHT
BEGIN:STANDARD
TZOFFSETFROM:+0200
TZOFFSETTO:+0100
TZNAME:CET
DTSTART:20251026T010000
END:STANDARD
BEGIN:DAYLIGHT
TZOFFSETFROM:+0100
TZOFFSETTO:+0200
TZNAME:CEST
DTSTART:20260329T010000
END:DAYLIGHT
BEGIN:STANDARD
TZOFFSETFROM:+0200
TZOFFSETTO:+0100
TZNAME:CET
DTSTART:20261025T010000
END:STANDARD
BEGIN:DAYLIGHT
TZOFFSETFROM:+0100
TZOFFSETTO:+0200
TZNAME:CEST
DTSTART:20270328T010000
END:DAYLIGHT
BEGIN:STANDARD
TZOFFSETFROM:+0200
TZOFFSETTO:+0100
TZNAME:CET
DTSTART:20271031T010000
END:STANDARD
END:VTIMEZONE
BEGIN:VEVENT
DTSTART;VALUE=DATE:20260415
DTEND;VALUE=DATE:20260416
DTSTAMP:20260422T173125
CREATED:20260323T112919Z
LAST-MODIFIED:20260407T074438Z
UID:37710-1776211200-1776297599@ondernemers.fgz.nl
SUMMARY:Patrick Dreher | Amsterdam
DESCRIPTION:Edelsteenvereniging Gemma organiseert op 15 april in Amsterdam een bijzondere presentatie van Patrick Dreher. Deze Duitse carver maakt de mooiste dieren van edelsteen.\nPatrick Dreher\nBen je op zoek naar een carver met een passie voor edelsteensnijwerk en de schoonheid van de natuur\, dan kom je automatisch bij de familie Dreher uit Idar-Oberstein terecht. Al vijf generaties lang staat deze naam synoniem voor dierensnijwerk van de hoogste kwaliteit\, uitgevoerd in kostbare edelstenen. De unieke werken\, waarvan de kwaliteit al in de 19e eeuw werd gewaardeerd door onder andere Peter Carl Fabergé\, de uitverkoren goudsmid van de Russische tsarenfamilie\, vind je in talloze privécollecties en musea wereldwijd. \nPatrick Dreher (1970) is de vijfde generatie die de familietradities voortzet vanaf het hoofdkwartier. Hij leerde de geheimen van het vak en het ambacht van niemand minder dan zijn vader. Deze leerde hem de kunst hoe hij edelstenen moest selecteren en lezen – de structuur en kleur – om zo in zijn verbeelding het verborgen dier in het ruwe stuk al naar voren te krijgen. Een kunstvorm die van generatie op generatie binnen de familie wordt overgedragen. \nKeuze van de juiste edelsteen\nHet vinden van de juiste edelsteen bij een bepaald idee kost tijd. Gezocht wordt naar de juiste kwaliteit van de edelsteen en natuurlijk of de afmetingen geschikt zijn. En dan nog kan het ruwe stuk steen afgekeurd worden\, alleen omdat het perfecte lagenpatroon ontbreekt. Alle criteria worden zorgvuldig afgewogen om tot het perfecte edelsteensnijwerk te komen\, een die precies de juiste warmte\, echtheid of misschien wel aaibaarheid heeft. Uitgebreide studies van de beweging en silhouetten van het uitverkoren dier zijn daarbij noodzakelijk\, het liefst natuurlijk door observatie van het dier in zijn natuurlijke habitat.\nPatrick gaat hier alles over vertellen in zijn lezing op de Gemma-avond. Klik hier voor een impressie van zijn werk. \nDe bijeenkomst vindt plaats op 15 april\, aanvang 19.45 uur op de VU\, locatie HG 14A33. De bijeenkomsten zijn gratis voor leden. De avond is ook toegankelijk voor niet-leden\, deze betalen € 10. Vooraanmelding is niet nodig. \nwww.vereniginggemma.nl
URL:https://ondernemers.fgz.nl/evenement/vereniging-gemma-patrick-dreher-amsterdam/
LOCATION:VU\, locatie HG 14A33\, De Boelelaan 1105\, Amsterdam\, 1081 HV
CATEGORIES:Business
ATTACH;FMTTYPE=image/png:https://ondernemers.fgz.nl/wp-content/uploads/2026/03/gemma-800-x-400-6.png
END:VEVENT
BEGIN:VEVENT
DTSTART;VALUE=DATE:20251015
DTEND;VALUE=DATE:20251016
DTSTAMP:20260422T173125
CREATED:20250925T142517Z
LAST-MODIFIED:20250929T080908Z
UID:37105-1760486400-1760572799@ondernemers.fgz.nl
SUMMARY:Engelse kroonjuwelen en koninklijke sieraden
DESCRIPTION:Normaal gesproken zijn de Engelse kroonjuwelen te bewonderen in de Tower of London\, maar twee jaar geleden konden we op televisie zien hoe de kronen\, scepters en de rijksappel werden gebruikt tijdens de kroning van koning Charles III.\nKent u de verhalen achter deze juwelen? Weet u hoe groot de Cullinan-diamant was voordat hij in Amsterdam werd geslepen en in de kroonjuwelen werd verwerkt? Gemma\, vereniging voor edelsteenkunde\, organiseert op 15 oktober een lezing over dit onderwerp. Tijdens de lezing neemt Michael Nord u mee op een reis door de geschiedenis\, de tradities en ceremonies van het Engelse koningshuis. Hij vertelt over het gebruik van de Engelse kroonjuwelen en de schitterende sieraden die gedragen werden en worden door koninginnen van Elizabeth I tot Camilla. \nDe lezing vindt plaats op 15 oktober van 19.45 tot 21.45 op de VU\, locatie HG 14A33\, De Boelelaan 1105\, 1081 HV Amsterdam. Gratis voor leden Gemma\, niet-leden betalen € 5\,00. Prijs is incl. koffie/thee. \nwww.vereniginggemma.nl \nFoto’s: Sir Samuel Luke Fildes\, Queen Alexandra\, 1905 (RCIN 404554)
URL:https://ondernemers.fgz.nl/evenement/engelse-kroonjuwelen-en-koninklijke-sieraden/
LOCATION:VU\, locatie HG 14A33\, De Boelelaan 1105\, Amsterdam\, 1081 HV
CATEGORIES:Business,Consumenten
ATTACH;FMTTYPE=image/png:https://ondernemers.fgz.nl/wp-content/uploads/2025/09/gemma-800-x-400.png
END:VEVENT
END:VCALENDAR