BEGIN:VCALENDAR
VERSION:2.0
PRODID:-//Federatie Goud en Zilver - ECPv6.15.20//NONSGML v1.0//EN
CALSCALE:GREGORIAN
METHOD:PUBLISH
X-WR-CALNAME:Federatie Goud en Zilver
X-ORIGINAL-URL:https://ondernemers.fgz.nl
X-WR-CALDESC:Evenementen voor Federatie Goud en Zilver
REFRESH-INTERVAL;VALUE=DURATION:PT1H
X-Robots-Tag:noindex
X-PUBLISHED-TTL:PT1H
BEGIN:VTIMEZONE
TZID:Europe/Amsterdam
BEGIN:DAYLIGHT
TZOFFSETFROM:+0100
TZOFFSETTO:+0200
TZNAME:CEST
DTSTART:20240331T010000
END:DAYLIGHT
BEGIN:STANDARD
TZOFFSETFROM:+0200
TZOFFSETTO:+0100
TZNAME:CET
DTSTART:20241027T010000
END:STANDARD
BEGIN:DAYLIGHT
TZOFFSETFROM:+0100
TZOFFSETTO:+0200
TZNAME:CEST
DTSTART:20250330T010000
END:DAYLIGHT
BEGIN:STANDARD
TZOFFSETFROM:+0200
TZOFFSETTO:+0100
TZNAME:CET
DTSTART:20251026T010000
END:STANDARD
BEGIN:DAYLIGHT
TZOFFSETFROM:+0100
TZOFFSETTO:+0200
TZNAME:CEST
DTSTART:20260329T010000
END:DAYLIGHT
BEGIN:STANDARD
TZOFFSETFROM:+0200
TZOFFSETTO:+0100
TZNAME:CET
DTSTART:20261025T010000
END:STANDARD
BEGIN:DAYLIGHT
TZOFFSETFROM:+0100
TZOFFSETTO:+0200
TZNAME:CEST
DTSTART:20270328T010000
END:DAYLIGHT
BEGIN:STANDARD
TZOFFSETFROM:+0200
TZOFFSETTO:+0100
TZNAME:CET
DTSTART:20271031T010000
END:STANDARD
END:VTIMEZONE
BEGIN:VEVENT
DTSTART;VALUE=DATE:20251115
DTEND;VALUE=DATE:20260223
DTSTAMP:20260421T183902
CREATED:20251120T092324Z
LAST-MODIFIED:20251120T092848Z
UID:37246-1763164800-1771804799@ondernemers.fgz.nl
SUMMARY:Verzameld Zilver - Harlingen
DESCRIPTION:Van 15 november 2025 tot en met 22 februari 2026 is in Gemeentemuseum Het Hannemahuis in Harlingen de tentoonstelling Verzameld zilver te zien.\n\nVijftig jaar Nederlandse Zilverclub: drie musea vieren dit jaar het vijftigjarig bestaan van de Nederlandse Zilverclub: een zilverjubileum met een gouden randje. In het Zilvermuseum in Schoonhoven\, het Stedelijk Museum Zutphen en het Hannemahuis speelt zilver van zilverclubleden de hoofdrol. \nDe drie musea delen hun liefde en passie voor en kennis over historisch en modern zilver met elkaar en – bij deze gelegenheid – met een breed publiek. Aan de hand van zilveren voorwerpen uit verschillende Nederlandse steden wordt onder andere ingezoomd op het belang van keurtekens. Keurtekens zijn belangrijk voor het waarborgen van het zilver. Ook zijn er kopieën te zien van zilveren voorwerpen in goedkoper materiaal\, tin of keramiek. En wat te denken van vervalsingen…? \nBijzonder is dat veel van de getoonde stukken zilver uit particulier bezit komen en normaal gesproken niet voor het publiek toegankelijk zijn. In een boeiende film is te zien hoe zilversmid Daan Brouwer een detail van een huwelijksbokaal uit 1691 namaakt\, een topstuk uit de collectie van het museum (bruikleen Ottema-Kingma Stichting)\, en hij toont wat daar allemaal bij komt kijken. \nVoor de jeugd zal een interessant educatief programma beschikbaar zijn\, waarbij kinderen onder andere hun eigen zilvermerk kunnen ontwerpen. \nwww.hannemahuis.nl
URL:https://ondernemers.fgz.nl/evenement/verzameld-zilver-harlingen/
LOCATION:Gemeentemuseum Het Hannemahuis\, Voorstraat 56\, Harlingen\, 8861 BM
CATEGORIES:Business,Consumenten
ATTACH;FMTTYPE=image/png:https://ondernemers.fgz.nl/wp-content/uploads/2025/11/hannemahuis-800-x-400.png
END:VEVENT
END:VCALENDAR